BEGIN:VCALENDAR
VERSION:2.0
PRODID:icalendar-ruby
CALSCALE:GREGORIAN
BEGIN:VEVENT
DTSTAMP:20260421T091305Z
UID:267f1003-e35b-43d2-be73-eb052fb1ca45
DTSTART;VALUE=DATE:20200312
DESCRIPTION:Property ID# 471432\, Locatoin: 96 Ulster Street\, Hamilton\, T
 ime: 12:00PM
SUMMARY:Auction for 
END:VEVENT
END:VCALENDAR
