BEGIN:VCALENDAR
VERSION:2.0
PRODID:icalendar-ruby
CALSCALE:GREGORIAN
BEGIN:VEVENT
DTSTAMP:20260420T054019Z
UID:3f0da5df-0d53-4b0c-b62a-2f2b09f4f5e1
DTSTART;VALUE=DATE:20240509
DESCRIPTION:Property ID# 572893\, Locatoin: Russley Golf Course\, 428 Memor
 ial Avenue\, Burnside\, Time: 1:00PM
SUMMARY:Auction for 
END:VEVENT
END:VCALENDAR
