BEGIN:VCALENDAR
VERSION:2.0
PRODID:icalendar-ruby
CALSCALE:GREGORIAN
BEGIN:VEVENT
DTSTAMP:20260420T053909Z
UID:731ed508-ee4e-4644-844b-0cb4949b1000
DTSTART;VALUE=DATE:20240917
DESCRIPTION:Property ID# 580313\, Time: 12:00PM
SUMMARY:Auction for 
END:VEVENT
END:VCALENDAR
