BEGIN:VCALENDAR
VERSION:2.0
PRODID:icalendar-ruby
CALSCALE:GREGORIAN
BEGIN:VEVENT
DTSTAMP:20260420T053215Z
UID:f6fb0476-8ccc-47cb-b80c-f88c68ad428c
DTSTART;VALUE=DATE:20241002
DESCRIPTION:Property ID# 580869\, Time: 12:00PM
SUMMARY:Auction for 
END:VEVENT
END:VCALENDAR
