BEGIN:VCALENDAR
VERSION:2.0
PRODID:icalendar-ruby
CALSCALE:GREGORIAN
BEGIN:VEVENT
DTSTAMP:20260420T053723Z
UID:f3cefabb-5b6a-43fb-8921-2b9b9e3a0cd7
DTSTART;VALUE=DATE:20241008
DESCRIPTION:Property ID# 581281\, Time: 12:00PM
SUMMARY:Auction for 
END:VEVENT
END:VCALENDAR
