BEGIN:VCALENDAR
VERSION:2.0
PRODID:icalendar-ruby
CALSCALE:GREGORIAN
BEGIN:VEVENT
DTSTAMP:20260420T053217Z
UID:7b8c7bd8-87e8-466b-a8a0-de576c62fafd
DTSTART;VALUE=DATE:20250128
DESCRIPTION:Property ID# 586165\, Time: 12:00PM
SUMMARY:Auction for 
END:VEVENT
END:VCALENDAR
