BEGIN:VCALENDAR
VERSION:2.0
PRODID:icalendar-ruby
CALSCALE:GREGORIAN
BEGIN:VEVENT
DTSTAMP:20260424T082100Z
UID:7984d4cf-ed0a-4c7f-beba-f172c1c88ece
DTSTART;VALUE=DATE:20250204
DESCRIPTION:Property ID# 586168\, Time: 12:00PM
SUMMARY:Auction for 
END:VEVENT
END:VCALENDAR
