BEGIN:VCALENDAR
VERSION:2.0
PRODID:icalendar-ruby
CALSCALE:GREGORIAN
BEGIN:VEVENT
DTSTAMP:20260420T053528Z
UID:60dd06b8-0903-4a3b-9ecb-0e7229aec7b2
DTSTART;VALUE=DATE:20250924
DESCRIPTION:Property ID# 597208\, Time: 12:00PM
SUMMARY:Auction for 
END:VEVENT
END:VCALENDAR
