BEGIN:VCALENDAR
VERSION:2.0
PRODID:icalendar-ruby
CALSCALE:GREGORIAN
BEGIN:VEVENT
DTSTAMP:20260420T023032Z
UID:fef2e4fb-0148-4b53-a89a-7447cf6cfce7
DTSTART;VALUE=DATE:20260120
DESCRIPTION:Property ID# 601988\, Time: 12:00PM
SUMMARY:Auction for 37 Glenrowan Avenue
END:VEVENT
END:VCALENDAR
