BEGIN:VCALENDAR
VERSION:2.0
PRODID:icalendar-ruby
CALSCALE:GREGORIAN
BEGIN:VEVENT
DTSTAMP:20260421T162653Z
UID:2fb6cb6e-1cea-4b48-bf11-0cf904e01b2c
DTSTART;VALUE=DATE:20260507
DESCRIPTION:Property ID# 606860\, Locatoin: Harcourts Grenadier\, 98 Moorho
 use Avenue (unless sold prior)\, Time: 11:00AM
SUMMARY:Auction for 124B Glandovey Road
END:VEVENT
END:VCALENDAR
